BEGIN:VCALENDAR
VERSION:2.0
PRODID:-//Monde Nissin - ECPv6.15.20//NONSGML v1.0//EN
CALSCALE:GREGORIAN
METHOD:PUBLISH
X-WR-CALNAME:Monde Nissin
X-ORIGINAL-URL:https://mondenissin.com
X-WR-CALDESC:Events for Monde Nissin
REFRESH-INTERVAL;VALUE=DURATION:PT1H
X-Robots-Tag:noindex
X-PUBLISHED-TTL:PT1H
BEGIN:VTIMEZONE
TZID:Asia/Manila
BEGIN:STANDARD
TZOFFSETFROM:+0800
TZOFFSETTO:+0800
TZNAME:PST
DTSTART:20250101T000000
END:STANDARD
END:VTIMEZONE
BEGIN:VEVENT
DTSTART;TZID=Asia/Manila:20260427T080000
DTEND;TZID=Asia/Manila:20260427T170000
DTSTAMP:20260420T091054
CREATED:20260408T021250Z
LAST-MODIFIED:20260410T031239Z
UID:20333-1777276800-1777309200@mondenissin.com
SUMMARY:Deadline for Submission of Nominations
DESCRIPTION:Pursuant to the 2026 Nomination Rules of Monde’s Corporate Governance\, Nominations\, and Remuneration Committee\, nominations for directors (and independent directors) for the term year 2026-2027 shall be accepted by the Corporate Secretary until April 27\, 2026.\n\nFor additional information regarding the form and content of nominations\, kindly refer to Monde’s Nomination Rules via this link.
URL:https://mondenissin.com/event/deadline-for-submission-of-nominations-4/
CATEGORIES:Annual Stockholders' Meeting
END:VEVENT
END:VCALENDAR